BEGIN:VCALENDAR
VERSION:2.0
PRODID:DPCALENDAR
CALSCALE:GREGORIAN
X-WR-TIMEZONE:UTC
BEGIN:VEVENT
DTSTART;VALUE=DATE:20260310
DTEND;VALUE=DATE:20260311
UID:696afd4622fc55abb9e5c9dd68514a34
SUMMARY:Egzamin pisemny DSD1
DTSTAMP:20260421T105313Z
DESCRIPTION:
X-ALT-DESC;FMTTYPE=text/html:
X-ACCESS:1
X-MODIFIED:20260421T105313Z
X-HITS:0
X-URL:
X-COLOR:
END:VEVENT
END:VCALENDAR