BEGIN:VCALENDAR
VERSION:2.0
PRODID:DPCALENDAR
CALSCALE:GREGORIAN
X-WR-TIMEZONE:UTC
BEGIN:VEVENT
DTSTART;VALUE=DATE:20241224
DTEND;VALUE=DATE:20241225
UID:efe4bd53ee5b871165819ace9bcd334b
SUMMARY:Wigilia Bożego Narodzenia
DTSTAMP:20260419T121149Z
DESCRIPTION:Święto religijne
Aby ukryć święta religijne, w Kalendarzu Google otwórz Ustawienia > Święta w Polsce
X-ALT-DESC;FMTTYPE=text/html:Święto religijne<br />
Aby ukryć święta religijne, w Kalendarzu Google otwórz Ustawienia > Święta w Polsce
X-ACCESS:1
X-MODIFIED:20260419T121149Z
X-HITS:0
X-URL:
X-COLOR:
END:VEVENT
END:VCALENDAR