BEGIN:VCALENDAR
VERSION:2.0
PRODID:DPCALENDAR
CALSCALE:GREGORIAN
X-WR-TIMEZONE:UTC
BEGIN:VEVENT
DTSTART;VALUE=DATE:20250623
DTEND;VALUE=DATE:20250624
UID:f8c02e04c7d2cdba6b1bb401c6bbe628
SUMMARY:Dzień Ojca
DTSTAMP:20260421T092219Z
DESCRIPTION:Święto religijne
Aby ukryć święta religijne, w Kalendarzu Google otwórz Ustawienia > Święta w Polsce
X-ALT-DESC;FMTTYPE=text/html:Święto religijne<br />
Aby ukryć święta religijne, w Kalendarzu Google otwórz Ustawienia > Święta w Polsce
X-ACCESS:1
X-MODIFIED:20260421T092219Z
X-HITS:0
X-URL:
X-COLOR:
END:VEVENT
END:VCALENDAR